BEGIN:VCALENDAR
VERSION:2.0
PRODID:-//hacksw/handcal//NONSGML v1.0//EN
BEGIN:VEVENT
SUMMARY:Badminton competition DISTRICT et formation velo pour les eleves du voyage
UID:e8ab1f18-eb5f-4164-8e4d-230fc4e33bb5
DTSTART:20260422T104500Z
DTEND:20260422T144500Z
LOCATION:Localisation   
CATEGORIES:Sportif
STATUS:
DESCRIPTION:<p>Competition par equipe de 3 OU 4 sur le district 
 avec un arbitre obligatoire.</p>
 
 <p>Les minimes garcons jouent a
 <strong>TANINGES au gymnase  de 13H a 16H15</strong> 2 equipes
 engagees :                                  (EQ1:
 Roman, Elio, Raphael / EQ2: Arsene, Baptiste, Alexandre)</p>
 
 <p>Les
 benjamins garcons jouent a<strong> BONNEVILLE depart en bus a
 12H1</strong>5<strong> du college</strong> (sortie des cours a
 11H30)           <u>1 equipe: Helios, Marius, Evan, Louka</u> 
          RETOUR au college vers
 <strong>17H15</strong></p>
 
 <p>MERCI DE CONFIRMER au plus
 vite </p>
 
 <p>Pas d'equipe fille seulement 2 eleves RDV l'annee
 prochaine !</p>
 
 <p><strong>PAS D'AS POUR LES AUTRES : Sauf les
 eleves du voyage a velo qui peuvent venir de 13h a 15h pour une
 premiere formation velo. </strong></p>
 
 <p> </p>
URL;VALUE=URI:https://www.astaninges.fr/evenements/2026/04/22/badminton-competition-district-et-formation-velo-pour-les-eleves-du-voyage-2399575
END:VEVENT
END:VCALENDAR
